BEGIN:VCALENDAR
VERSION:2.0
PRODID:-//Alta Normisjon - ECPv4.6.26.2//NONSGML v1.0//EN
CALSCALE:GREGORIAN
METHOD:PUBLISH
X-WR-CALNAME:Alta Normisjon
X-ORIGINAL-URL:https://alta.normisjon.no
X-WR-CALDESC:Events for Alta Normisjon
BEGIN:VEVENT
DTSTART;TZID=Europe/Oslo:20260208T183000
DTEND;TZID=Europe/Oslo:20260208T203000
DTSTAMP:20260422T205522
CREATED:20251226T162339Z
LAST-MODIFIED:20260201T121851Z
UID:2315-1770575400-1770582600@alta.normisjon.no
SUMMARY:Søndagsmøte.Taler Anne Skoglund
DESCRIPTION:\n\nAnne Skoglund er stiftsdirektør i Nordhålogaland bispedømme. Hun er tidligere prost i Alta prosti\n
URL:https://alta.normisjon.no/event/sondagsmote-taler-oivind-granerud/
END:VEVENT
END:VCALENDAR