BEGIN:VCALENDAR
VERSION:2.0
PRODID:-//Alta Normisjon - ECPv4.6.26.2//NONSGML v1.0//EN
CALSCALE:GREGORIAN
METHOD:PUBLISH
X-WR-CALNAME:Alta Normisjon
X-ORIGINAL-URL:https://alta.normisjon.no
X-WR-CALDESC:Events for Alta Normisjon
BEGIN:VEVENT
DTSTART;TZID=Europe/Oslo:20260503T183000
DTEND;TZID=Europe/Oslo:20260503T203000
DTSTAMP:20260421T144501
CREATED:20251226T170627Z
LAST-MODIFIED:20251226T170627Z
UID:2359-1777833000-1777840200@alta.normisjon.no
SUMMARY:Søndagsmøte.
DESCRIPTION:
URL:https://alta.normisjon.no/event/sondagsmote-3/
END:VEVENT
END:VCALENDAR