BEGIN:VCALENDAR
VERSION:2.0
PRODID:-//Alta Normisjon - ECPv4.6.26.2//NONSGML v1.0//EN
CALSCALE:GREGORIAN
METHOD:PUBLISH
X-WR-CALNAME:Alta Normisjon
X-ORIGINAL-URL:https://alta.normisjon.no
X-WR-CALDESC:Events for Alta Normisjon
BEGIN:VEVENT
DTSTART;VALUE=DATE:20260215
DTEND;VALUE=DATE:20260216
DTSTAMP:20260422T170239
CREATED:20251226T162640Z
LAST-MODIFIED:20260211T203134Z
UID:2319-1771113600-1771199999@alta.normisjon.no
SUMMARY:Søn 15.  Ingen møte
DESCRIPTION:
URL:https://alta.normisjon.no/event/son-15-ingen-mote-festivalta/
END:VEVENT
END:VCALENDAR