BEGIN:VCALENDAR
VERSION:2.0
PRODID:-//Alta Normisjon - ECPv4.6.26.2//NONSGML v1.0//EN
CALSCALE:GREGORIAN
METHOD:PUBLISH
X-WR-CALNAME:Alta Normisjon
X-ORIGINAL-URL:https://alta.normisjon.no
X-WR-CALDESC:Events for Alta Normisjon
BEGIN:VEVENT
DTSTART;TZID=Europe/Oslo:20260320T183000
DTEND;TZID=Europe/Oslo:20260320T210000
DTSTAMP:20260422T004029
CREATED:20251226T164406Z
LAST-MODIFIED:20260316T114416Z
UID:2337-1774031400-1774040400@alta.normisjon.no
SUMMARY:Møtehelg m/Svein Granerud
DESCRIPTION:\n \nSvein Granerud (født 12. februar 1950) er forkynner i Normisjon og bor i Bærum. Han er gift med Solveig Granerud\, de har tre barn. Han er utdannet fra Menighetsfakultetet i 1975 og ble ordinert til prest i 1976. Han hadde feltpresttjeneste på Evjemoen 1976-1977 og var deretter kapellan i Nes på Romerike fra 1978 til 1982\, da han ble lærer på Indremisjonsselskapets Bibelskole i Staffeldts gt. Etter to år ble han rektor samme sted\, en stilling han hadde i tolv år. I 1997 ble han prosjektleder i Indremisjonsselskapet og han var med i prosjektgruppa som forberedte fusjonen med Santalmisjonen da Normisjon ble opprettet. Fra 2001 var han leder av Normisjons hjemmearbeid. \nGranerud er en forkynner som er blitt kjent over hele landet\, blant annet som andaktsholder i Over en åpen Bibel. Han har også skrevet flere bøker\, blant disse kan nevnes: \n\nKommentar til Lukas-evangeliet\nInnføring i Den Augsburgske bekjennelse\nLærebok i etikk\n“Med Ordet gjennom Året”\, andaktsbok\n\n  \nMøtene holdes på Bedehuset i Bakkeveien 5\nFredag 20.mars  kl. 1830\, \nLørdag 21.mars  kl. 1100 (Bibeltime)\n Søndag 22.mars kl. 1830.\n Tema: «Kristen i vår tid.»\n  \n
URL:https://alta.normisjon.no/event/motehelg-m-svein-granerud/
END:VEVENT
END:VCALENDAR