BEGIN:VCALENDAR
VERSION:2.0
PRODID:-//Alta Normisjon - ECPv4.6.26.2//NONSGML v1.0//EN
CALSCALE:GREGORIAN
METHOD:PUBLISH
X-WR-CALNAME:Alta Normisjon
X-ORIGINAL-URL:https://alta.normisjon.no
X-WR-CALDESC:Events for Alta Normisjon
BEGIN:VEVENT
DTSTART;TZID=Europe/Oslo:20260228T180000
DTEND;TZID=Europe/Oslo:20260228T210000
DTSTAMP:20260422T094658
CREATED:20251226T163401Z
LAST-MODIFIED:20260209T185828Z
UID:2327-1772301600-1772312400@alta.normisjon.no
SUMMARY:Misjonsfest. Taler: Svein Høgseter
DESCRIPTION:\n\nNordlyskatedralen 28.februar – 1.mars 2026\nMisjonsaksjonen er et samarbeid mellom NMS\, Normisjon og Alta menighet og arrangeres helgen 28. februar til 1. mars.\nDette er en årelang tradisjon som har pågått siden 1982.\nProgram:\n\n\nLørdag klokken 11.00: Misjonstime med påfølgende lunsj og samtale.\n\n\nLørdag klokken 18.00: Misjonskveld med varm mat og dessert (100 kroner) og utlodning.\n\n\nSøndag klokken 11.00: Gudstjeneste i Nordlyskatedralen\, Alta kirke. Etterpå blir det kirkekaffe i menighetssalen\, der vi får mulighet til å høre fra Svein Høysæter\, tidligere rådgiver og pastor i Normisjon.\n\n\nPå alle møtene tas det opp gave til aksjonen.\nMøtene på lørdag er på Alta bedehus i Bakkeveien 5. Søndag er vi med på gudstjeneste i Nordlyskatedralen Alta kirke.\nAlle er velkomne!\nMisjonsaksjon 2026\n
URL:https://alta.normisjon.no/event/misjonsfest-taler-svein-hogseter/
END:VEVENT
END:VCALENDAR