BEGIN:VCALENDAR
VERSION:2.0
PRODID:-//Alta Normisjon - ECPv4.6.26.2//NONSGML v1.0//EN
CALSCALE:GREGORIAN
METHOD:PUBLISH
X-WR-CALNAME:Alta Normisjon
X-ORIGINAL-URL:https://alta.normisjon.no
X-WR-CALDESC:Events for Alta Normisjon
BEGIN:VEVENT
DTSTART;TZID=Europe/Oslo:20260603T110000
DTEND;TZID=Europe/Oslo:20260603T130000
DTSTAMP:20260421T144706
CREATED:20251226T171138Z
LAST-MODIFIED:20251226T171138Z
UID:2365-1780484400-1780491600@alta.normisjon.no
SUMMARY:Formiddagstreff i Bakkeveien 5
DESCRIPTION:
URL:https://alta.normisjon.no/event/formiddagstreff-i-bakkeveien-5-9/
END:VEVENT
END:VCALENDAR