BEGIN:VCALENDAR
VERSION:2.0
PRODID:-//Alta Normisjon - ECPv4.6.26.2//NONSGML v1.0//EN
CALSCALE:GREGORIAN
METHOD:PUBLISH
X-WR-CALNAME:Alta Normisjon
X-ORIGINAL-URL:https://alta.normisjon.no
X-WR-CALDESC:Events for Alta Normisjon
BEGIN:VEVENT
DTSTART;TZID=Europe/Oslo:20260325T110000
DTEND;TZID=Europe/Oslo:20260325T130000
DTSTAMP:20260421T224351
CREATED:20251226T164556Z
LAST-MODIFIED:20251226T164556Z
UID:2340-1774436400-1774443600@alta.normisjon.no
SUMMARY:Formiddagstreff i Bakkeveien 5
DESCRIPTION:
URL:https://alta.normisjon.no/event/formiddagstreff-i-bakkeveien-5-4/
END:VEVENT
END:VCALENDAR