BEGIN:VCALENDAR
VERSION:2.0
PRODID:-//Alta Normisjon - ECPv4.6.26.2//NONSGML v1.0//EN
CALSCALE:GREGORIAN
METHOD:PUBLISH
X-WR-CALNAME:Alta Normisjon
X-ORIGINAL-URL:https://alta.normisjon.no
X-WR-CALDESC:Events for Alta Normisjon
BEGIN:VEVENT
DTSTART;TZID=Europe/Oslo:20260225T110000
DTEND;TZID=Europe/Oslo:20260225T130000
DTSTAMP:20260422T130728
CREATED:20251226T163006Z
LAST-MODIFIED:20251226T163006Z
UID:2323-1772017200-1772024400@alta.normisjon.no
SUMMARY:Formiddagstreff i Bakkeveien 5
DESCRIPTION:Vi Møtes på Bedehuset i Bakkeveien 5 \n
URL:https://alta.normisjon.no/event/formiddagstreff-i-bakkeveien-5-2/
END:VEVENT
END:VCALENDAR