BEGIN:VCALENDAR
VERSION:2.0
PRODID:-//Alta Normisjon - ECPv4.6.26.2//NONSGML v1.0//EN
CALSCALE:GREGORIAN
METHOD:PUBLISH
X-WR-CALNAME:Alta Normisjon
X-ORIGINAL-URL:https://alta.normisjon.no
X-WR-CALDESC:Events for Alta Normisjon
BEGIN:VEVENT
DTSTART;TZID=Europe/Oslo:20260222T183000
DTEND;TZID=Europe/Oslo:20260222T203000
DTSTAMP:20260422T145955
CREATED:20251226T162818Z
LAST-MODIFIED:20260204T105551Z
UID:2321-1771785000-1771792200@alta.normisjon.no
SUMMARY:Fellesmøte m/Samemisjonen\, Taler: Leif Halsos
DESCRIPTION: \nLeif Halsos er generalsekretær i Norges Samemisjon. Han er en fredsæl prest og oppbyggelig forkynner med en trøstefull tillit til Gud og stor omsorg for mennesker. At han snakker samisk\, kommer godt med for en forkynner for det samiske folk.\n
URL:https://alta.normisjon.no/event/fellesmote-m-samemisjonen-talerstein-ivar-kalviknes-og-ole-eikje/
END:VEVENT
END:VCALENDAR